BEGIN:VCALENDAR
VERSION:2.0
PRODID:-//APDCV - ECPv5.14.2.1//NONSGML v1.0//EN
CALSCALE:GREGORIAN
METHOD:PUBLISH
X-WR-CALNAME:APDCV
X-ORIGINAL-URL:https://profesionalesdanza.com
X-WR-CALDESC:Events for APDCV
REFRESH-INTERVAL;VALUE=DURATION:PT1H
X-Robots-Tag:noindex
X-PUBLISHED-TTL:PT1H
BEGIN:VTIMEZONE
TZID:UTC
BEGIN:STANDARD
TZOFFSETFROM:+0000
TZOFFSETTO:+0000
TZNAME:UTC
DTSTART:20250101T000000
END:STANDARD
END:VTIMEZONE
BEGIN:VEVENT
DTSTART;TZID=UTC:20250704T100000
DTEND;TZID=UTC:20250705T140000
DTSTAMP:20260421T050337
CREATED:20250618T083105Z
LAST-MODIFIED:20250627T121217Z
UID:12635-1751623200-1751724000@profesionalesdanza.com
SUMMARY:TALLER DE DANSA EN PARELLA AMB DAVID ZAMBRANO I MILAN HERICH
DESCRIPTION:COUPLE DANCING \nDavid Zambrano i Milan Herich \n04 i 05 Jul\nTaller Professionals\nHoraris: 10 h-14 h\nFaura (València) \nEn aquest taller\, Zambrano reprén la seua experiència de vida ballant salsa. Recorda la bellesa de l’intercanvi de mans\, l’intercanvi de passos rítmics\, la música de big band i la passió de ballar amb una altra persona. Pren aquesta història del ball en parella i la redefineix com una cosa més apropiada per a l’era moderna\, seguint la influència del contact improvisation i la transformació dels rols de gènere. Liderar i seguir pot ser assumit per tots dos i compartit. Els rols no es divideixen per gènere ni preferències sexuals. La verticalitat i la rectitud es trenquen\, de manera que els ballarins poden aconseguir diferents nivells i moure’s per la pista amb diferents parts del cos. Aquest taller comptarà amb l’assistència de Milan Herich. \nInscripcions 30 €\nFormulari:https://forms.gle/7E44yfyyauSdsZAYA
URL:https://profesionalesdanza.com/evento-danza-valencia/taller-de-dansa-en-parella-amb-david-zambrano-i-milan-herich/
LOCATION:ESCORXADOR DE FAURA\, FAURA
CATEGORIES:formació
ATTACH;FMTTYPE=image/jpeg:https://profesionalesdanza.com/wp-content/uploads/2025/06/taller-dz-2025-240x300-1.jpg
END:VEVENT
BEGIN:VEVENT
DTSTART;TZID=UTC:20250707T180000
DTEND;TZID=UTC:20250709T193000
DTSTAMP:20260421T050337
CREATED:20250627T071123Z
LAST-MODIFIED:20250627T120712Z
UID:12691-1751911200-1752089400@profesionalesdanza.com
SUMMARY:"FROM GROUND TO THE FLOW" con Kiko López - 7\, 8 Y 9 JULIO 2025
DESCRIPTION:Los días 7\, 8 y 9 de julio tendremos a Kiko López impartiendo su técnica “From Ground to the flow”. Ganador de Got Talent España\, imparte su disciplina por toda latino américa y el ámbito nacional. Trabajo de suelo y conciencia corporal desde el respeto y el amor. \nPara alumnos externos de la escuela 45 euros \nAlumnos de la escuela 35 euros. \nInstagram Relate Dance Studio
URL:https://profesionalesdanza.com/evento-danza-valencia/from-ground-to-the-flow-con-kiko-lopez-7-8-y-9-julio-2025/
LOCATION:Relate Dance Studio\, C/ Historiador Diago 12\, Valencia
ATTACH;FMTTYPE=image/jpeg:https://profesionalesdanza.com/wp-content/uploads/2025/06/kiko-240x300-1.jpg
END:VEVENT
BEGIN:VEVENT
DTSTART;TZID=UTC:20250721T100000
DTEND;TZID=UTC:20250722T113000
DTSTAMP:20260421T050337
CREATED:20250627T070929Z
LAST-MODIFIED:20250627T120439Z
UID:12689-1753092000-1753183800@profesionalesdanza.com
SUMMARY:WORKSHOP JAZZ BROADWAY MUSICAL - 21 y 22 de Julio 2025
DESCRIPTION:Núria es docente de danza de la Broadway Dance Center de Madrid donde imparte clases de Jazz Musical. Ha sido Coreógrafa y bailarina en Pretty Woman y el programa El Desafío. \nTres horas de auténtico Jazz Musical en Relate Dance Studio. \nC/Historiador Diago 12-bajo \n604195060 \nInstagram Relate Dance Studio
URL:https://profesionalesdanza.com/evento-danza-valencia/workshop-jazz-broadway-musical/
LOCATION:Relate Dance Studio\, C/ Historiador Diago 12\, Valencia
ATTACH;FMTTYPE=image/jpeg:https://profesionalesdanza.com/wp-content/uploads/2025/06/nuria-240x300-1.jpg
END:VEVENT
END:VCALENDAR