BEGIN:VCALENDAR
VERSION:2.0
PRODID:-//APDCV - ECPv5.14.2.1//NONSGML v1.0//EN
CALSCALE:GREGORIAN
METHOD:PUBLISH
X-WR-CALNAME:APDCV
X-ORIGINAL-URL:https://profesionalesdanza.com
X-WR-CALDESC:Events for APDCV
REFRESH-INTERVAL;VALUE=DURATION:PT1H
X-Robots-Tag:noindex
X-PUBLISHED-TTL:PT1H
BEGIN:VTIMEZONE
TZID:UTC
BEGIN:STANDARD
TZOFFSETFROM:+0000
TZOFFSETTO:+0000
TZNAME:UTC
DTSTART:20250101T000000
END:STANDARD
END:VTIMEZONE
BEGIN:VEVENT
DTSTART;TZID=UTC:20251213T100000
DTEND;TZID=UTC:20251213T140000
DTSTAMP:20260421T213229
CREATED:20251118T175620Z
LAST-MODIFIED:20251118T175620Z
UID:12916-1765620000-1765634400@profesionalesdanza.com
SUMMARY:TÉCNICAS DE IMPROVISACIÓN  - RELATE DANCE STUDIO
DESCRIPTION:Llega a Relate Dance Studio el curso “Técnicas de Improvisación”\, Danza Contemporánea\, con el bailarín y coreógrafo Jorge Calvo.\nUn encuentro para bailar desde la intuición\, la escucha y la exploración. \nDurante este viaje\, trabajaremos la improvisación y la composición como herramientas para conectar contigo mismo y con los demás.\nA través de ejercicios somáticos y técnicas contemporáneas\, despertarás la conciencia corporal\, afinarás tu percepción del espacio y del tiempo\, y descubrirás nuevas formas de moverte con libertad 🌿 \nEste curso es para ti si quieres:\n✨ Salir de lo técnico para entrar en lo auténtico.\n✨ Escuchar tu cuerpo sin juicios.\n✨ Investigar tu propio lenguaje de movimiento. \n🗓 Sábado 13 de diciembre — de 10.00h a 14.00h\n📍 Relate Dance Studio C/Historiador Diago 12-bajo\n💰 Alumnos: 20 € | No alumnos: 25 € \n¡¡¡Plazas limitadas!!! \n💬 Inscríbete y vive una experiencia de movimiento única.\nTu cuerpo tiene mucho que decir… dale voz a través de la danza. 💫
URL:https://profesionalesdanza.com/evento-danza-valencia/tecnicas-de-improvisacion-relate-dance-studio/
END:VEVENT
END:VCALENDAR