BEGIN:VCALENDAR
VERSION:2.0
PRODID:-//APDCV - ECPv5.14.2.1//NONSGML v1.0//EN
CALSCALE:GREGORIAN
METHOD:PUBLISH
X-WR-CALNAME:APDCV
X-ORIGINAL-URL:https://profesionalesdanza.com/es/
X-WR-CALDESC:Events for APDCV
REFRESH-INTERVAL;VALUE=DURATION:PT1H
X-Robots-Tag:noindex
X-PUBLISHED-TTL:PT1H
BEGIN:VTIMEZONE
TZID:UTC
BEGIN:STANDARD
TZOFFSETFROM:+0000
TZOFFSETTO:+0000
TZNAME:UTC
DTSTART:20250101T000000
END:STANDARD
END:VTIMEZONE
BEGIN:VEVENT
DTSTART;TZID=UTC:20250823T223000
DTEND;TZID=UTC:20250823T233000
DTSTAMP:20260424T175535
CREATED:20251117T131504Z
LAST-MODIFIED:20251117T131504Z
UID:12758-1755988200-1755991800@profesionalesdanza.com
SUMMARY:QUERENCIA DE HONGARESA TEATRE EN SAGUNT A ESCENA
DESCRIPTION:‘ Querencia ’ de Paco Zarzoso llega a SAGUNT A ESCENA en una nueva versión para el 𝗧𝗲𝗮𝘁𝗿𝗼 𝗥𝗼𝗺𝗮𝗻𝗼 𝗰𝗼𝗻 𝗺ú𝘀𝗶𝗰𝗮 𝗲𝗻 𝗱𝗶𝗿𝗲𝗰𝘁𝗼 𝘆 𝗱𝗮𝗻𝘇𝗮. \nSábado 23 de agosto \n22:30 \nTeatro Romano de Sagunto \nAutoría y dirección: PACO ZARZOSO\nIntérpretes: LOLA LÓPEZ\, PEP RICART\, MARCOS SPROSTON\nComposición y dirección musical JESÚS SALVADOR “CHAPI”\nTrompeta solista MANU PARDO\nSoprano CONXI VALERO\nDanza JESSICA MARTÍN\nBanda de música BANDA DEMOCRÁTICA DE PEDRALBA\nDirector: CÉSAR RUBIO GISBERT \nUna producción de:\n𝗛𝗢𝗡𝗚𝗔𝗥𝗘𝗦𝗔 𝗧𝗘𝗔𝗧𝗥𝗘 \nSinopsis\nUna gran diva de la escena\, que ha obtenido un éxito internacional interpretando a Medea\, y el más prestigioso crítico de teatro ahora reconvertido en crítico taurino. Ambos se encuentran\, después de una larguísima y traumática separación\, en la casa que compartieron mientras fueron pareja. \nEntradas ya disponibles: https://taquilla.ivc.gva.es/es/espectaculo/querencia/QUERENCIA25 \nTres Candidaturas a los Premios MAX 2024\nMejor Autoría Teatral. Paco Zarzoso\nMejor Actriz. Lola López\nMejor Actor. Pep Ricart \nDos nominaciones a los Premios IVC Arts Escèniques\nMejor Texto. Paco Zarzoso\nMejor Actor. Pep Ricart
URL:https://profesionalesdanza.com/es/evento-danza-valencia/querencia-de-hongaresa-teatre-en-sagunt-a-escena/
CATEGORIES:espectacles
ATTACH;FMTTYPE=image/png:https://profesionalesdanza.com/wp-content/uploads/2025/08/Captura-de-Pantalla-2025-08-21-a-les-9.11.39.png
END:VEVENT
END:VCALENDAR