BEGIN:VCALENDAR
VERSION:2.0
PRODID:-//APDCV - ECPv5.14.2.1//NONSGML v1.0//EN
CALSCALE:GREGORIAN
METHOD:PUBLISH
X-WR-CALNAME:APDCV
X-ORIGINAL-URL:https://profesionalesdanza.com/es/
X-WR-CALDESC:Events for APDCV
REFRESH-INTERVAL;VALUE=DURATION:PT1H
X-Robots-Tag:noindex
X-PUBLISHED-TTL:PT1H
BEGIN:VTIMEZONE
TZID:UTC
BEGIN:STANDARD
TZOFFSETFROM:+0000
TZOFFSETTO:+0000
TZNAME:UTC
DTSTART:20250101T000000
END:STANDARD
END:VTIMEZONE
BEGIN:VEVENT
DTSTART;TZID=UTC:20250212T080000
DTEND;TZID=UTC:20250212T170000
DTSTAMP:20260425T044937
CREATED:20250213T080038Z
LAST-MODIFIED:20250213T080038Z
UID:12347-1739347200-1739379600@profesionalesdanza.com
SUMMARY:1ª Formación Danza Barroca
DESCRIPTION:
URL:https://profesionalesdanza.com/es/evento-danza-valencia/1a-formacion-danza-barroca/
END:VEVENT
END:VCALENDAR