BEGIN:VCALENDAR
VERSION:2.0
PRODID:-//APDCV - ECPv5.14.2.1//NONSGML v1.0//EN
CALSCALE:GREGORIAN
METHOD:PUBLISH
X-WR-CALNAME:APDCV
X-ORIGINAL-URL:https://profesionalesdanza.com/es/
X-WR-CALDESC:Events for APDCV
REFRESH-INTERVAL;VALUE=DURATION:PT1H
X-Robots-Tag:noindex
X-PUBLISHED-TTL:PT1H
BEGIN:VTIMEZONE
TZID:UTC
BEGIN:STANDARD
TZOFFSETFROM:+0000
TZOFFSETTO:+0000
TZNAME:UTC
DTSTART:20250101T000000
END:STANDARD
END:VTIMEZONE
BEGIN:VEVENT
DTSTART;VALUE=DATE:20250908
DTEND;VALUE=DATE:20251101
DTSTAMP:20260424T162754
CREATED:20250908T072709Z
LAST-MODIFIED:20250908T072709Z
UID:12767-1757289600-1761955199@profesionalesdanza.com
SUMMARY:Oferta de treball - Relate Studio
DESCRIPTION:Desde la escuela Relate Dance Studio buscamos un/a profesor/a de Jazz Broadway Musical y clásico para los lunes por la tarde.\n\n\nGrupo ya formado y consolidado\, se hablarán de las condiciones en persona.\n\nGracias.\n\nTlf 604195060
URL:https://profesionalesdanza.com/es/evento-danza-valencia/oferta-de-treball-relate-studio/
CATEGORIES:altres esdeveniments
END:VEVENT
END:VCALENDAR