BEGIN:VCALENDAR
VERSION:2.0
PRODID:-//APDCV - ECPv5.14.2.1//NONSGML v1.0//EN
CALSCALE:GREGORIAN
METHOD:PUBLISH
X-WR-CALNAME:APDCV
X-ORIGINAL-URL:https://profesionalesdanza.com/es/
X-WR-CALDESC:Events for APDCV
REFRESH-INTERVAL;VALUE=DURATION:PT1H
X-Robots-Tag:noindex
X-PUBLISHED-TTL:PT1H
BEGIN:VTIMEZONE
TZID:UTC
BEGIN:STANDARD
TZOFFSETFROM:+0000
TZOFFSETTO:+0000
TZNAME:UTC
DTSTART:20250101T000000
END:STANDARD
END:VTIMEZONE
BEGIN:VEVENT
DTSTART;TZID=UTC:20250628T200000
DTEND;TZID=UTC:20250628T210000
DTSTAMP:20260424T223234
CREATED:20250627T070838Z
LAST-MODIFIED:20250627T121331Z
UID:12676-1751140800-1751144400@profesionalesdanza.com
SUMMARY:Wako Danza ¨DUMMIES¨ en Festival Les ONES Benidorm
DESCRIPTION:
URL:https://profesionalesdanza.com/es/evento-danza-valencia/wako-danza-%c2%a8dummies%c2%a8-en-festival-les-ones-benidorm/
LOCATION:BENIDORM
CATEGORIES:espectacles
ATTACH;FMTTYPE=image/jpeg:https://profesionalesdanza.com/wp-content/uploads/2025/06/WAKO_AED25_DUMMIES_32-300x197-1.jpg
END:VEVENT
END:VCALENDAR