BEGIN:VCALENDAR
VERSION:2.0
PRODID:-//APDCV - ECPv5.14.2.1//NONSGML v1.0//EN
CALSCALE:GREGORIAN
METHOD:PUBLISH
X-WR-CALNAME:APDCV
X-ORIGINAL-URL:https://profesionalesdanza.com/es/
X-WR-CALDESC:Events for APDCV
REFRESH-INTERVAL;VALUE=DURATION:PT1H
X-Robots-Tag:noindex
X-PUBLISHED-TTL:PT1H
BEGIN:VTIMEZONE
TZID:UTC
BEGIN:STANDARD
TZOFFSETFROM:+0000
TZOFFSETTO:+0000
TZNAME:UTC
DTSTART:20250101T000000
END:STANDARD
END:VTIMEZONE
BEGIN:VEVENT
DTSTART;TZID=UTC:20250607T110000
DTEND;TZID=UTC:20250607T180000
DTSTAMP:20260425T031120
CREATED:20250602T085902Z
LAST-MODIFIED:20250602T090002Z
UID:12589-1749294000-1749319200@profesionalesdanza.com
SUMMARY:🌿CONTACT IMPRO - BMC® Y MASAJE ASIÁTICO🌿
DESCRIPTION:El próximo sábado 7 de junio a partir de las 11.00 h disfrutaremos en Terranova de una jornada de Contact-Impro BMC®\, Contact-Thai® y sus caminos intermedios. \n11.30 h a 13.30 h • Contact-BMC® con Natalyd Altamirano exploraremos el Body-Mind Centering® como punto de partida para la práctica del CI. A través del reconocimiento de los tejidos que nos sostienen y los impulsos que nos movilizan. \n15.30 h a 17.30h • Contact-Thai® con Manu Paredes donde exploraremos los caminos entre el fluir de la danza contact y las delicias del masaje asiático. \n• No se requiere experiencia previa. Únicamente ganas de compartir y aportar nuestra preciosa presencia al grupo.\n• Trae algo de comida para compartir si quieres quedarte al mediodía.\n• Reservas: 655141416 (Jordi)\n• + Info: @nataconlechesinlactosa (Natalyd)\, @manuparedes.es \n Terranova\, Racó del Mercader en Castelló de la Plana. @espai_terranova\nInstagram: https://www.instagram.com/p/DKRV5-2irGl
URL:https://profesionalesdanza.com/es/evento-danza-valencia/%f0%9f%8c%bfcontact-impro-bmc-y-masaje-asiatico%f0%9f%8c%bf/
END:VEVENT
END:VCALENDAR