BEGIN:VCALENDAR
VERSION:2.0
PRODID:-//APDCV - ECPv5.14.2.1//NONSGML v1.0//EN
CALSCALE:GREGORIAN
METHOD:PUBLISH
X-WR-CALNAME:APDCV
X-ORIGINAL-URL:https://profesionalesdanza.com/es/
X-WR-CALDESC:Events for APDCV
REFRESH-INTERVAL;VALUE=DURATION:PT1H
X-Robots-Tag:noindex
X-PUBLISHED-TTL:PT1H
BEGIN:VTIMEZONE
TZID:UTC
BEGIN:STANDARD
TZOFFSETFROM:+0000
TZOFFSETTO:+0000
TZNAME:UTC
DTSTART:20240101T000000
END:STANDARD
END:VTIMEZONE
BEGIN:VEVENT
DTSTART;TZID=UTC:20241001T080000
DTEND;TZID=UTC:20241001T170000
DTSTAMP:20260425T122904
CREATED:20241001T090613Z
LAST-MODIFIED:20241001T090613Z
UID:12011-1727769600-1727802000@profesionalesdanza.com
SUMMARY:'Reflexos en moviment' - Paula Esteve
DESCRIPTION:Taller d’investigació\n5 octubre a les 12:00h. (+15 anys)\n \nTaller de recerca del movi-ment on recorrerem les dot-ze distorsions cognitives de la imatge corporal\, per final-ment quedar-nos amb la que més ens representa o ens identifica i desenvolupar-la a nivell individual per compar-tir-la a nivell grupal. \n+ info i inscripcions: ccreina121@valencia.es \nLocalització: Centre Cultural Reina\, 121 Valencia 46011
URL:https://profesionalesdanza.com/es/evento-danza-valencia/reflexos-en-moviment-paula-esteve/
LOCATION:Centre Cultural Reina 121\, Calle de la Reina\, 121\, Valencia\, Valencia\, 46011\, Espanya
CATEGORIES:formació
ATTACH;FMTTYPE=image/jpeg:https://profesionalesdanza.com/wp-content/uploads/2024/10/WhatsApp-Image-2024-10-01-at-10.52.12.jpeg
END:VEVENT
BEGIN:VEVENT
DTSTART;TZID=UTC:20241001T080000
DTEND;TZID=UTC:20241001T170000
DTSTAMP:20260425T122904
CREATED:20241001T091042Z
LAST-MODIFIED:20241001T091206Z
UID:12026-1727769600-1727802000@profesionalesdanza.com
SUMMARY:Dotzena Bruta - Paula Esteve
DESCRIPTION:Peça de Dansa Contemporània\n5 octubre a les 19:00h\n \nPeça de dansa contemporà-nia que convida a la reflexió sobre com ens percebem i ens relacionem amb la nos-tra pròpia imatge corporal\, la relació amb els espills\, els reflexos i les distorsions visuals que tenim quan ens veiem a l’espill. \n+ info i inscripcions: ccreina121@valencia.es \nLocalització: Centre Cultural Reina 121\, Valencia 46011
URL:https://profesionalesdanza.com/es/evento-danza-valencia/dotzena-bruta-paula-esteve/
LOCATION:Centre Cultural Reina 121\, Calle de la Reina\, 121\, Valencia\, Valencia\, 46011\, Espanya
ATTACH;FMTTYPE=image/jpeg:https://profesionalesdanza.com/wp-content/uploads/2024/10/WhatsApp-Image-2024-10-01-at-10.52.13.jpeg
END:VEVENT
BEGIN:VEVENT
DTSTART;TZID=UTC:20241001T110000
DTEND;TZID=UTC:20241001T123000
DTSTAMP:20260425T122904
CREATED:20240909T105659Z
LAST-MODIFIED:20240909T105659Z
UID:11934-1727780400-1727785800@profesionalesdanza.com
SUMMARY:LLEUGERS
DESCRIPTION:LLEUGERS \nTALLER DE DANZA INCLUSIVA PARTICIPATIVA \n  \n \n  \nTaller abierto y participativo\, llevado a cabo por profesionales del sector de la danza y dirigido a toda la comunidad universitaria\, que tiene como objetivo fomentar la expresión artística y el desarrollo personal a través de la danza\, promoviendo un espacio donde todas las personas\, independientemente de sus capacidades físicas\, cognitivas o sensoriales\, puedan participar y disfrutar del arte del movimiento. \nUna vez finalizado el taller\, habrá un coloquio entre los participantes y el público. \nLlevado a cabo por profesionales del sector de la danza: Toni Aparisi\, Anna Mateu i Eugenia Morera. Tendrá lugar en el hall de la Facultad de Magisterio con una duración de 1 hora\, e irá acompañado con un coloquio entre los participantes y los profesionales de la danza. \n\n11 DE OCTUBRE DE 2024 A LAS 11H EN LA FACULTAD DE MAGISTERI  \nDIRIGIDO A ALUMNOS DE LA UNIVERSIDAD DE VALÈNCIA  \n\nINSCRIPCIONES\n\n\n\n\n\n\n\n\n\n\n\n\n\n\n\n\n\n\n\n\n\n\n\n\n\n\n\n\n\n\n\n\n\n\n\n\n\n\n\n\n\n\n\n\n\n\n\n\n\n\n\n\n\n\n 
URL:https://profesionalesdanza.com/es/evento-danza-valencia/lleugers/
LOCATION:FACULTAT DE MAGISTERI\, Facultat de Magisteri. Av. dels Tarongers\, 4\, Algirós\, 46022 València.\, VALENCIA\, Espanya
CATEGORIES:formació
ATTACH;FMTTYPE=image/jpeg:https://profesionalesdanza.com/wp-content/uploads/2024/09/Taller-UV-IG-OK.jpg
END:VEVENT
END:VCALENDAR