BEGIN:VCALENDAR
VERSION:2.0
PRODID:-//APDCV - ECPv5.14.2.1//NONSGML v1.0//EN
CALSCALE:GREGORIAN
METHOD:PUBLISH
X-WR-CALNAME:APDCV
X-ORIGINAL-URL:https://profesionalesdanza.com/es/
X-WR-CALDESC:Events for APDCV
REFRESH-INTERVAL;VALUE=DURATION:PT1H
X-Robots-Tag:noindex
X-PUBLISHED-TTL:PT1H
BEGIN:VTIMEZONE
TZID:UTC
BEGIN:STANDARD
TZOFFSETFROM:+0000
TZOFFSETTO:+0000
TZNAME:UTC
DTSTART:20240101T000000
END:STANDARD
END:VTIMEZONE
BEGIN:VEVENT
DTSTART;VALUE=DATE:20240919
DTEND;VALUE=DATE:20240930
DTSTAMP:20260425T140936
CREATED:20240913T115221Z
LAST-MODIFIED:20240913T115301Z
UID:11972-1726704000-1727654399@profesionalesdanza.com
SUMMARY:XIV EDICIÓ RUSSAFA ESCÈNICA
DESCRIPTION:XIV EDICIÓ RUSSAFA ESCÈNICA \nDEL 19 AL 29 DE SETEMBRE DE 2024  \n  \n \n  \n  \nJa és ací la nova edició de Russafa Escènica. \nEntra i descobreix tota la programació \n\nPROGRAMACIÓ 
URL:https://profesionalesdanza.com/es/evento-danza-valencia/xiv-edicio-russafa-escenica/
LOCATION:RUSSAFA\, VALENCIA
CATEGORIES:Espectáculos,Formación
ATTACH;FMTTYPE=image/jpeg:https://profesionalesdanza.com/wp-content/uploads/2024/09/Russafa-escenica.jpg
END:VEVENT
BEGIN:VEVENT
DTSTART;TZID=UTC:20240925T100000
DTEND;TZID=UTC:20240925T123000
DTSTAMP:20260425T140936
CREATED:20240909T104104Z
LAST-MODIFIED:20240909T104104Z
UID:11928-1727258400-1727267400@profesionalesdanza.com
SUMMARY:EL SIGNIFICADO DE LOS DERECHOS DE AUTOR_ TALLER FORMATIVO
DESCRIPTION:EL SIGNIFICADO DE LOS DERECHOS DE AUTOR\nTALLER FORMATIVO\n  \nTaller impartido por Álvaro Oltra\, director de la Fundación SGAE de Valencia\, profesional con más de veinte años de experiencia en la gestión de derechos de Propiedad Intelectual\, como Director de la Sociedad General de Autores y Editores en la Comunidad Valenciana y Murcia. Licenciado en Gestión Comercial y Marketing por la Escuela de Negocios ESIC\, MBA Máster en Dirección de Empresas \nCon el objetivo de capacitar a los participantes sobre los principios y la aplicación de la legislación de derechos de autor. \n \n  \nCONTENIDOS \n1- Definición de derechos de autor: Explicación de qué son los derechos de autor y su importancia en la protección de las obras creativas. \n2- Alcance de los derechos de autor: Detalle sobre qué tipos de obras pueden ser protegidas \n3- Duración de los derechos de autor: Información sobre cuánto tiempo duran los derechos de autor y que ocurre cuando expiran. \n4- Derechos morales y económicos: Diferenciación entre los derechos morales (reconocimiento de la autoría y respecto a la integridad de la obra) y los derechos económicos \n5- Infracciones y excepciones: Identificación del que constituye una infracción de derechos de autor y las excepciones permitidas por la ley\, como el uso justo. \n6- Registro de derechos de autor: Proceso y beneficios del registro de una obra en la oficina de derechos de autor. \n7- Protección internacional: Información sobre cómo se protegen los derechos de autor en diferentes países y los tratados internacionales relevantes\, como el Convenio de Berna. \n  \nINSCRIPCIÓN 
URL:https://profesionalesdanza.com/es/evento-danza-valencia/el-significado-de-los-derechos-de-autor_-taller-formativo/
LOCATION:FUNDACIÓN SGAE VALENCIA\, C. de la Blanqueria\, 6\, Ciutat Vella\, Valencia.\, VALENCIA\, Espanya
CATEGORIES:formació
ATTACH;FMTTYPE=image/jpeg:https://profesionalesdanza.com/wp-content/uploads/2024/09/Taller-SGAE.jpg
END:VEVENT
END:VCALENDAR